BEGIN:VCALENDAR
VERSION:2.0
PRODID:-//developUs Worldwide - ECPv6.15.17//NONSGML v1.0//EN
CALSCALE:GREGORIAN
METHOD:PUBLISH
X-WR-CALNAME:developUs Worldwide
X-ORIGINAL-URL:https://www.developus.com
X-WR-CALDESC:Events for developUs Worldwide
REFRESH-INTERVAL;VALUE=DURATION:PT1H
X-Robots-Tag:noindex
X-PUBLISHED-TTL:PT1H
BEGIN:VTIMEZONE
TZID:UTC
BEGIN:STANDARD
TZOFFSETFROM:+0000
TZOFFSETTO:+0000
TZNAME:UTC
DTSTART:20250101T000000
END:STANDARD
END:VTIMEZONE
BEGIN:VEVENT
DTSTART;VALUE=DATE:20260209
DTEND;VALUE=DATE:20260214
DTSTAMP:20260424T162611
CREATED:20260204T142222Z
LAST-MODIFIED:20260204T142342Z
UID:10000016-1770595200-1771027199@www.developus.com
SUMMARY:Client Site Visit - Dubai
DESCRIPTION:
URL:https://www.developus.com/event/client-site-visit-dubai/
LOCATION:Dubai\, United Arab Emirates
CATEGORIES:Client Program
ATTACH;FMTTYPE=image/jpeg:https://www.developus.com/wp-content/uploads/2026/02/Home-page-hero-1.jpg
ORGANIZER;CN="developUs Worldwide":MAILTO:info@developus.com
END:VEVENT
END:VCALENDAR